BEGIN:VCALENDAR
VERSION:2.0
PRODID:-//Centre Excursionista Llinars del Vallès - ECPv6.10.0//NONSGML v1.0//EN
CALSCALE:GREGORIAN
METHOD:PUBLISH
X-WR-CALNAME:Centre Excursionista Llinars del Vallès
X-ORIGINAL-URL:https://cellv.cat
X-WR-CALDESC:Esdeveniments per Centre Excursionista Llinars del Vallès
REFRESH-INTERVAL;VALUE=DURATION:PT1H
X-Robots-Tag:noindex
X-PUBLISHED-TTL:PT1H
BEGIN:VTIMEZONE
TZID:Europe/Paris
BEGIN:DAYLIGHT
TZOFFSETFROM:+0100
TZOFFSETTO:+0200
TZNAME:CEST
DTSTART:20210328T010000
END:DAYLIGHT
BEGIN:STANDARD
TZOFFSETFROM:+0200
TZOFFSETTO:+0100
TZNAME:CET
DTSTART:20211031T010000
END:STANDARD
END:VTIMEZONE
BEGIN:VEVENT
DTSTART;TZID=Europe/Paris:20211016T080000
DTEND;TZID=Europe/Paris:20211024T170000
DTSTAMP:20260422T172529
CREATED:20210914T201617Z
LAST-MODIFIED:20210914T201617Z
UID:3139-1634371200-1635094800@cellv.cat
SUMMARY:CURS D'ESCALADA EN ROCA NIVELL 1
DESCRIPTION:
URL:https://cellv.cat/agenda/curs-descalada-en-roca-nivell-1/
CATEGORIES:ESCALADA
ATTACH;FMTTYPE=image/jpeg:https://cellv.cat/wp-content/uploads/2021/09/WhatsApp-Image-2021-08-31-at-22.59.38.jpeg
END:VEVENT
END:VCALENDAR