BEGIN:VCALENDAR
VERSION:2.0
PRODID:-//Centre Excursionista Llinars del Vallès - ECPv6.10.0//NONSGML v1.0//EN
CALSCALE:GREGORIAN
METHOD:PUBLISH
X-ORIGINAL-URL:https://cellv.cat
X-WR-CALDESC:Esdeveniments per Centre Excursionista Llinars del Vallès
REFRESH-INTERVAL;VALUE=DURATION:PT1H
X-Robots-Tag:noindex
X-PUBLISHED-TTL:PT1H
BEGIN:VTIMEZONE
TZID:Europe/Paris
BEGIN:DAYLIGHT
TZOFFSETFROM:+0100
TZOFFSETTO:+0200
TZNAME:CEST
DTSTART:20240331T010000
END:DAYLIGHT
BEGIN:STANDARD
TZOFFSETFROM:+0200
TZOFFSETTO:+0100
TZNAME:CET
DTSTART:20241027T010000
END:STANDARD
END:VTIMEZONE
BEGIN:VEVENT
DTSTART;TZID=Europe/Paris:20240407T080000
DTEND;TZID=Europe/Paris:20240407T170000
DTSTAMP:20260422T214258
CREATED:20240403T051730Z
LAST-MODIFIED:20240403T051730Z
UID:4136-1712476800-1712509200@cellv.cat
SUMMARY:100 cims: Sortida al Taga
DESCRIPTION:El proper diumenge 7 d’abril anirem al Taga! \n⛰Sortida de tot el dia al Taga (Ripollès) \n⏰Hora i lloc sortida: a les 8:00 al centre. \n🏁 Recorregut: 9\,95 Km. amb desnivell de +/- 717 m. \n🥪 Porteu esmorzar i dinar. \n  \nAquí trobareu la traça de Wikiloc. \n  \n 
URL:https://cellv.cat/agenda/100-cims-sortida-al-taga/
LOCATION:CELLV
CATEGORIES:100 cims
ATTACH;FMTTYPE=image/jpeg:https://cellv.cat/wp-content/uploads/2024/04/taga2.jpg
END:VEVENT
BEGIN:VEVENT
DTSTART;TZID=Europe/Paris:20240428T080000
DTEND;TZID=Europe/Paris:20240428T170000
DTSTAMP:20260422T214258
CREATED:20240408T065132Z
LAST-MODIFIED:20240423T071016Z
UID:4143-1714291200-1714323600@cellv.cat
SUMMARY:100 cims: Balandrau
DESCRIPTION:El proper 28 d’abril pujarem el cim del Balandrau\, talaia sobre les gorgues del Freser.\n\n\n⛰Sortida de tot el dia al cim de Balandrau (Ripollès) \n⏰Hora i lloc sortida: a les 7:30 al centre. \n🏁 Recorregut: 5\,53 Km. amb desnivell de +/- 550 m. \n🥪 Porteu esmorzar i dinar. \n\nTraça \nComarca: Ripollès\nAltitud: 2585 m\nLatitud: 42.3701065555º\nLongitud: 2.21956587983º\n\nEl ‘ Balandrau ‘ pel torrent de la Fontlletera i tornada pel llom de la serralada) \n\nAquest cim és malauradament famós perquè el desembre del 2000 i degut a un torb sobtat hi van morir 10 excursionistes. Si voleu conèixer la història\, TV3 va fer un documental que narra d’una forma molt real i colpidora el que va passar.\n\nNomés aclarir que es tracta d’un cim sense cap dificultat\, amb molt bones vistes durant tot el recorregut (i que no hi ha previsió de torb pel diumenge 28 😜). Animeu-vos a venir!!!!!
URL:https://cellv.cat/agenda/100-cims-balandrau/
LOCATION:CELLV
CATEGORIES:100 cims
ATTACH;FMTTYPE=image/jpeg:https://cellv.cat/wp-content/uploads/2024/04/Balandrau.jpg
END:VEVENT
END:VCALENDAR